BEGIN:VCALENDAR
VERSION:2.0
PRODID:-//CIEDUR :: Centro Interdisciplinario de Estudios sobre Desarrollo - ECPv5.8.1//NONSGML v1.0//EN
CALSCALE:GREGORIAN
METHOD:PUBLISH
X-WR-CALNAME:CIEDUR :: Centro Interdisciplinario de Estudios sobre Desarrollo
X-ORIGINAL-URL:https://ciedur.org.uy/site
X-WR-CALDESC:Eventos para CIEDUR :: Centro Interdisciplinario de Estudios sobre Desarrollo
BEGIN:VTIMEZONE
TZID:UTC
BEGIN:STANDARD
TZOFFSETFROM:+0000
TZOFFSETTO:+0000
TZNAME:UTC
DTSTART:20200101T000000
END:STANDARD
END:VTIMEZONE
BEGIN:VEVENT
DTSTART;TZID=UTC:20201124T100000
DTEND;TZID=UTC:20201124T113000
DTSTAMP:20260422T143719
CREATED:20201120T185533Z
LAST-MODIFIED:20210817T014233Z
UID:657-1606212000-1606217400@ciedur.org.uy
SUMMARY:WOMEN ENTREPRENEURSHIP DEVELOPMENT
DESCRIPTION:Presentación de los resultados del estudio «Women Entrepreneurship Development» \n24 de noviembre a las 10.00 hs. \nFase 1: Mag. Magdalena Giuria \nFase 2: Ec. Soledad Salvador y Soc. Daniela de los Santos \nModera: Andrea Bastianini \nVer evento completo \n 
URL:https://ciedur.org.uy/site/agenda/women-entrepreneurship-development/
CATEGORIES:tribe_events
END:VEVENT
END:VCALENDAR