BEGIN:VCALENDAR
VERSION:2.0
PRODID:-//CIEDUR :: Centro Interdisciplinario de Estudios sobre Desarrollo - ECPv5.8.1//NONSGML v1.0//EN
CALSCALE:GREGORIAN
METHOD:PUBLISH
X-WR-CALNAME:CIEDUR :: Centro Interdisciplinario de Estudios sobre Desarrollo
X-ORIGINAL-URL:https://ciedur.org.uy/site
X-WR-CALDESC:Eventos para CIEDUR :: Centro Interdisciplinario de Estudios sobre Desarrollo
BEGIN:VTIMEZONE
TZID:UTC
BEGIN:STANDARD
TZOFFSETFROM:+0000
TZOFFSETTO:+0000
TZNAME:UTC
DTSTART:20220101T000000
END:STANDARD
END:VTIMEZONE
BEGIN:VEVENT
DTSTART;TZID=UTC:20220512T110000
DTEND;TZID=UTC:20220512T123000
DTSTAMP:20260425T003816
CREATED:20220514T005028Z
LAST-MODIFIED:20220514T005028Z
UID:1296-1652353200-1652358600@ciedur.org.uy
SUMMARY:Webinario "El sistema de alerta temprana"
DESCRIPTION:Destacamos la participación de Ivahanna Larrosa. \nInscripción
URL:https://ciedur.org.uy/site/agenda/webinario-el-sistema-de-alerta-temprana/
END:VEVENT
END:VCALENDAR