BEGIN:VCALENDAR
VERSION:2.0
PRODID:-//CIEDUR :: Centro Interdisciplinario de Estudios sobre Desarrollo - ECPv5.8.1//NONSGML v1.0//EN
CALSCALE:GREGORIAN
METHOD:PUBLISH
X-WR-CALNAME:CIEDUR :: Centro Interdisciplinario de Estudios sobre Desarrollo
X-ORIGINAL-URL:https://ciedur.org.uy/site
X-WR-CALDESC:Eventos para CIEDUR :: Centro Interdisciplinario de Estudios sobre Desarrollo
BEGIN:VTIMEZONE
TZID:UTC
BEGIN:STANDARD
TZOFFSETFROM:+0000
TZOFFSETTO:+0000
TZNAME:UTC
DTSTART:20200101T000000
END:STANDARD
END:VTIMEZONE
BEGIN:VEVENT
DTSTART;TZID=UTC:20200626T160000
DTEND;TZID=UTC:20200626T180000
DTSTAMP:20260423T093224
CREATED:20200624T115903Z
LAST-MODIFIED:20210817T021935Z
UID:647-1593187200-1593194400@ciedur.org.uy
SUMMARY:Webinar - Educación y cuidados en épocas de pandemia
DESCRIPTION:Webinar del Instituto de Economía sobre COVID-19 \n  \nEl viernes 26 de junio a las 16 horas\, en el canal oficial de YouTube de la facultad\, el Instituto de Economía llevará a cabo la séptima sesión del ciclo de webinars. Esta sesión\, titulada «Educación y cuidados en épocas de pandemia»\, tiene el siguiente programa. \nEn esta ocasión se cuenta con la participación de: \n– Alina Machado (Iecon-Udelar): La educación en tiempos de pandemia. Y el día después.\n– Soledad Salvador (CIEDUR): Género y cuidados durante la pandemia: ¿hacia una nueva normalidad?\n– Mariana Zerpa (KU Leuven\, IZA): Infancia y adolescencia en tiempos de pandemia: poniendo la mirada en el largo plazo.
URL:https://ciedur.org.uy/site/agenda/webinar-educacion-y-cuidados-en-epocas-de-pandemia/
CATEGORIES:tribe_events
END:VEVENT
END:VCALENDAR