BEGIN:VCALENDAR
VERSION:2.0
PRODID:-//CIEDUR :: Centro Interdisciplinario de Estudios sobre Desarrollo - ECPv5.8.1//NONSGML v1.0//EN
CALSCALE:GREGORIAN
METHOD:PUBLISH
X-WR-CALNAME:CIEDUR :: Centro Interdisciplinario de Estudios sobre Desarrollo
X-ORIGINAL-URL:https://ciedur.org.uy/site
X-WR-CALDESC:Eventos para CIEDUR :: Centro Interdisciplinario de Estudios sobre Desarrollo
BEGIN:VTIMEZONE
TZID:UTC
BEGIN:STANDARD
TZOFFSETFROM:+0000
TZOFFSETTO:+0000
TZNAME:UTC
DTSTART:20220101T000000
END:STANDARD
END:VTIMEZONE
BEGIN:VEVENT
DTSTART;TZID=UTC:20220428T090000
DTEND;TZID=UTC:20220428T130000
DTSTAMP:20260424T173804
CREATED:20220426T203349Z
LAST-MODIFIED:20220426T203349Z
UID:1253-1651136400-1651150800@ciedur.org.uy
SUMMARY:Uruguay Crece Contigo y SNIC: “Seminario sobre Cuidados e Infancia”
DESCRIPTION:  \n 
URL:https://ciedur.org.uy/site/agenda/uruguay-crece-contigo-y-snic-seminario-sobre-cuidados-e-infancia/
LOCATION:Centro Cultural Bastión del Carmen\, Rivadavia 223\, Colonia del Sacramento\, Uruguay
END:VEVENT
END:VCALENDAR