BEGIN:VCALENDAR
VERSION:2.0
PRODID:-//CIEDUR :: Centro Interdisciplinario de Estudios sobre Desarrollo - ECPv5.8.1//NONSGML v1.0//EN
CALSCALE:GREGORIAN
METHOD:PUBLISH
X-WR-CALNAME:CIEDUR :: Centro Interdisciplinario de Estudios sobre Desarrollo
X-ORIGINAL-URL:https://ciedur.org.uy/site
X-WR-CALDESC:Eventos para CIEDUR :: Centro Interdisciplinario de Estudios sobre Desarrollo
BEGIN:VTIMEZONE
TZID:UTC
BEGIN:STANDARD
TZOFFSETFROM:+0000
TZOFFSETTO:+0000
TZNAME:UTC
DTSTART:20250101T000000
END:STANDARD
END:VTIMEZONE
BEGIN:VEVENT
DTSTART;TZID=UTC:20250806T153000
DTEND;TZID=UTC:20250806T170000
DTSTAMP:20260422T140301
CREATED:20250725T150437Z
LAST-MODIFIED:20250725T150437Z
UID:2591-1754494200-1754499600@ciedur.org.uy
SUMMARY:Una propuesta feminista para el financiamiento de los cuidados
DESCRIPTION:¿Es posible financiar los cuidados? \nTe invitamos a la presentación del informe «Una propuesta feminista para el financiamiento de los cuidados» elaborado por Lucía Cirmi Obón para la Red de Género y Comercio con el apoyo del Centro Internacional de Investigación para el Desarrollo (IDRC).\nAllí se analizan diferentes mecanismos posibles de financiamiento de los cuidados por parte de los Estados\, y por qué los resultados serían beneficiosos para la sociedad en su conjunto. \nEvento virtual: Inscripción Zoom: \nPresenta el informe: Lucía Cirmi Obón (RGC)\nModera: Norma Sanchís (Asociación Lola Mora\, RGC Argentina)\nContaremos también con un espacio de intercambio con los/las asistentes. \nStream por el canal de YouTube de la Red de Género y Comercio \nEl Resumen ejecutivo del informe está disponible en www.generoycomercio.net
URL:https://ciedur.org.uy/site/agenda/una-propuesta-feminista-para-el-financiamiento-de-los-cuidados/
END:VEVENT
END:VCALENDAR