BEGIN:VCALENDAR
VERSION:2.0
PRODID:-//CIEDUR :: Centro Interdisciplinario de Estudios sobre Desarrollo - ECPv5.8.1//NONSGML v1.0//EN
CALSCALE:GREGORIAN
METHOD:PUBLISH
X-WR-CALNAME:CIEDUR :: Centro Interdisciplinario de Estudios sobre Desarrollo
X-ORIGINAL-URL:https://ciedur.org.uy/site
X-WR-CALDESC:Eventos para CIEDUR :: Centro Interdisciplinario de Estudios sobre Desarrollo
BEGIN:VTIMEZONE
TZID:UTC
BEGIN:STANDARD
TZOFFSETFROM:+0000
TZOFFSETTO:+0000
TZNAME:UTC
DTSTART:20200101T000000
END:STANDARD
END:VTIMEZONE
BEGIN:VEVENT
DTSTART;TZID=UTC:20201202T190000
DTEND;TZID=UTC:20201202T203000
DTSTAMP:20260422T105928
CREATED:20201201T145533Z
LAST-MODIFIED:20210817T013558Z
UID:659-1606935600-1606941000@ciedur.org.uy
SUMMARY:TRANSFORMACIONES DEL TRABAJO Y EL EMPLEO: COVID-19 Y DESPUÉS...
DESCRIPTION:Transformaciones del trabajo y el empleo: COVID-19 y después…\n \nMiércoles 2 de diciembre a a las 19.oo hs. \nEn conversación con Alma Espino – Ciedur – Red de Género y Comercio\n\nTransmisión en vivo y en español \n 
URL:https://ciedur.org.uy/site/agenda/transformaciones-del-trabajo-y-el-empleo-covid-19-y-despues/
CATEGORIES:tribe_events
END:VEVENT
END:VCALENDAR