BEGIN:VCALENDAR
VERSION:2.0
PRODID:-//CIEDUR :: Centro Interdisciplinario de Estudios sobre Desarrollo - ECPv5.8.1//NONSGML v1.0//EN
CALSCALE:GREGORIAN
METHOD:PUBLISH
X-WR-CALNAME:CIEDUR :: Centro Interdisciplinario de Estudios sobre Desarrollo
X-ORIGINAL-URL:https://ciedur.org.uy/site
X-WR-CALDESC:Eventos para CIEDUR :: Centro Interdisciplinario de Estudios sobre Desarrollo
BEGIN:VTIMEZONE
TZID:UTC
BEGIN:STANDARD
TZOFFSETFROM:+0000
TZOFFSETTO:+0000
TZNAME:UTC
DTSTART:20220101T000000
END:STANDARD
END:VTIMEZONE
BEGIN:VEVENT
DTSTART;TZID=UTC:20221109T150000
DTEND;TZID=UTC:20221109T163000
DTSTAMP:20260425T122420
CREATED:20221102T122817Z
LAST-MODIFIED:20221103T212919Z
UID:1477-1668006000-1668011400@ciedur.org.uy
SUMMARY:TALLER REGIONAL PRESENCIAL: Protección social\, cuidados e igualdad de género: desafíos frente a las políticas de austeridad
DESCRIPTION:Invitamos a acompañarnos en el Taller Regional Presencial «Protección social\, cuidados e igualdad de género: Desafíos frente a las políticas de austeridad». \nActividad en español. \nRegistro previo. \nVer invitación. \nVer nota conceptual y programa del completo del ciclo de conferencias. \nPor más información contactarse a proteccionsocial@ciedur.org.uy \n¡Nos vemos pronto!
URL:https://ciedur.org.uy/site/agenda/taller-regional-presencial-proteccion-social-cuidados-e-igualdad-de-genero-desafios-frente-a-las-politicas-de-austeridad/
LOCATION:BSAS\, Buenos Aires
END:VEVENT
END:VCALENDAR