BEGIN:VCALENDAR
VERSION:2.0
PRODID:-//CIEDUR :: Centro Interdisciplinario de Estudios sobre Desarrollo - ECPv5.8.1//NONSGML v1.0//EN
CALSCALE:GREGORIAN
METHOD:PUBLISH
X-WR-CALNAME:CIEDUR :: Centro Interdisciplinario de Estudios sobre Desarrollo
X-ORIGINAL-URL:https://ciedur.org.uy/site
X-WR-CALDESC:Eventos para CIEDUR :: Centro Interdisciplinario de Estudios sobre Desarrollo
BEGIN:VTIMEZONE
TZID:UTC
BEGIN:STANDARD
TZOFFSETFROM:+0000
TZOFFSETTO:+0000
TZNAME:UTC
DTSTART:20210101T000000
END:STANDARD
END:VTIMEZONE
BEGIN:VEVENT
DTSTART;TZID=UTC:20210728T193000
DTEND;TZID=UTC:20210728T193000
DTSTAMP:20260419T203638
CREATED:20210726T193018Z
LAST-MODIFIED:20210816T233911Z
UID:694-1627500600-1627500600@ciedur.org.uy
SUMMARY:Taller: Género y ámbitos de participación ciudadana
DESCRIPTION:ECCOSUR organizó el taller en línea «Género y ámbitos de participación ciudadana» dirigido a integrantes de los Proyectos vinculados a ECCOSUR en todas sus convocatorias. \nPor información e inscripciones: genero.ceuta@gmail.com
URL:https://ciedur.org.uy/site/agenda/taller-genero-y-ambitos-de-participacion-ciudadana/
CATEGORIES:tribe_events
END:VEVENT
END:VCALENDAR