BEGIN:VCALENDAR
VERSION:2.0
PRODID:-//CIEDUR :: Centro Interdisciplinario de Estudios sobre Desarrollo - ECPv5.8.1//NONSGML v1.0//EN
CALSCALE:GREGORIAN
METHOD:PUBLISH
X-WR-CALNAME:CIEDUR :: Centro Interdisciplinario de Estudios sobre Desarrollo
X-ORIGINAL-URL:https://ciedur.org.uy/site
X-WR-CALDESC:Eventos para CIEDUR :: Centro Interdisciplinario de Estudios sobre Desarrollo
BEGIN:VTIMEZONE
TZID:UTC
BEGIN:STANDARD
TZOFFSETFROM:+0000
TZOFFSETTO:+0000
TZNAME:UTC
DTSTART:20210101T000000
END:STANDARD
END:VTIMEZONE
BEGIN:VEVENT
DTSTART;TZID=UTC:20210924T093000
DTEND;TZID=UTC:20210924T140000
DTSTAMP:20260423T001159
CREATED:20210921T181344Z
LAST-MODIFIED:20210921T190032Z
UID:974-1632475800-1632492000@ciedur.org.uy
SUMMARY:Taller de Perforación Artesanal de Pozos de Agua
DESCRIPTION:Actividad organizada por Padrón Productivo en el marco del Proyecto ECCOSUR.
URL:https://ciedur.org.uy/site/agenda/taller-de-perforacion-artesanal-de-pozos-de-agua/
END:VEVENT
END:VCALENDAR