BEGIN:VCALENDAR
VERSION:2.0
PRODID:-//CIEDUR :: Centro Interdisciplinario de Estudios sobre Desarrollo - ECPv5.8.1//NONSGML v1.0//EN
CALSCALE:GREGORIAN
METHOD:PUBLISH
X-WR-CALNAME:CIEDUR :: Centro Interdisciplinario de Estudios sobre Desarrollo
X-ORIGINAL-URL:https://ciedur.org.uy/site
X-WR-CALDESC:Eventos para CIEDUR :: Centro Interdisciplinario de Estudios sobre Desarrollo
BEGIN:VTIMEZONE
TZID:UTC
BEGIN:STANDARD
TZOFFSETFROM:+0000
TZOFFSETTO:+0000
TZNAME:UTC
DTSTART:20210101T000000
END:STANDARD
END:VTIMEZONE
BEGIN:VEVENT
DTSTART;TZID=UTC:20210125T130000
DTEND;TZID=UTC:20210125T144000
DTSTAMP:20260419T210327
CREATED:20210121T144003Z
LAST-MODIFIED:20210817T011758Z
UID:667-1611579600-1611585600@ciedur.org.uy
SUMMARY:Sistemas de Cuidados en Hispanoamérica: "Experiencias y Oportunidades para Colombia"
DESCRIPTION:Conversatorio sobre Sistemas de Cuidado en Hispanoamérica \nModera: Alma Espino \nPanelistas: Marta Clara Ferreyra\, Patricia Cossani\, Sonia Ruiz y Natalia Moreno \n Ver conversatorio
URL:https://ciedur.org.uy/site/agenda/sistemas-de-cuidados-en-hispanoamerica-experiencias-y-oportunidades-para-colombia/
CATEGORIES:tribe_events
END:VEVENT
END:VCALENDAR