BEGIN:VCALENDAR
VERSION:2.0
PRODID:-//CIEDUR :: Centro Interdisciplinario de Estudios sobre Desarrollo - ECPv5.8.1//NONSGML v1.0//EN
CALSCALE:GREGORIAN
METHOD:PUBLISH
X-WR-CALNAME:CIEDUR :: Centro Interdisciplinario de Estudios sobre Desarrollo
X-ORIGINAL-URL:https://ciedur.org.uy/site
X-WR-CALDESC:Eventos para CIEDUR :: Centro Interdisciplinario de Estudios sobre Desarrollo
BEGIN:VTIMEZONE
TZID:UTC
BEGIN:STANDARD
TZOFFSETFROM:+0000
TZOFFSETTO:+0000
TZNAME:UTC
DTSTART:20230101T000000
END:STANDARD
END:VTIMEZONE
BEGIN:VEVENT
DTSTART;TZID=UTC:20230711T123000
DTEND;TZID=UTC:20230711T140000
DTSTAMP:20260424T085233
CREATED:20230710T133127Z
LAST-MODIFIED:20230710T144644Z
UID:1690-1689078600-1689084000@ciedur.org.uy
SUMMARY:Sesión plenaria: Revalorizar el trabajo y garantizar condiciones laborales decentes
DESCRIPTION:Esta sesión explorará el debate sobre la revalorización del trabajo y la garantía de unas condiciones laborales dignas que se inició durante la pandemia de COVID-19 para los trabajadores de primera línea/clave/esenciales. \nDestacamos la participación de Alma Espino. \nSeguir el evento en vivo.
URL:https://ciedur.org.uy/site/agenda/sesion-plenaria-revalorizar-el-trabajo-y-garantizar-condiciones-laborales-decentes/
LOCATION:OIT Organizacion Internacional del Trabajo
END:VEVENT
END:VCALENDAR