BEGIN:VCALENDAR
VERSION:2.0
PRODID:-//CIEDUR :: Centro Interdisciplinario de Estudios sobre Desarrollo - ECPv5.8.1//NONSGML v1.0//EN
CALSCALE:GREGORIAN
METHOD:PUBLISH
X-WR-CALNAME:CIEDUR :: Centro Interdisciplinario de Estudios sobre Desarrollo
X-ORIGINAL-URL:https://ciedur.org.uy/site
X-WR-CALDESC:Eventos para CIEDUR :: Centro Interdisciplinario de Estudios sobre Desarrollo
BEGIN:VTIMEZONE
TZID:UTC
BEGIN:STANDARD
TZOFFSETFROM:+0000
TZOFFSETTO:+0000
TZNAME:UTC
DTSTART:20220101T000000
END:STANDARD
END:VTIMEZONE
BEGIN:VEVENT
DTSTART;TZID=UTC:20220429T090000
DTEND;TZID=UTC:20220429T130000
DTSTAMP:20260424T193031
CREATED:20220428T140115Z
LAST-MODIFIED:20220428T143951Z
UID:1258-1651222800-1651237200@ciedur.org.uy
SUMMARY:Seminario y conferencia de clausura de RISEP: La agenda futura de investigación de las Ciencias Sociales
DESCRIPTION:Destacamos la participación de Soledad Salvador en el tema Género y Cuidados presentando los avances en términos de conocimiento de la temática y los desafíos futuros en términos de investigación. \n 
URL:https://ciedur.org.uy/site/agenda/seminario-y-conferencia-de-clausura-de-risep-la-agenda-futura-de-investigacion-de-las-ciencias-sociales/
LOCATION:Sala Maggiolo\, Av. 18 de Julio 1842\, Montevideo\, 11200\, Uruguay
END:VEVENT
END:VCALENDAR