BEGIN:VCALENDAR
VERSION:2.0
PRODID:-//CIEDUR :: Centro Interdisciplinario de Estudios sobre Desarrollo - ECPv5.8.1//NONSGML v1.0//EN
CALSCALE:GREGORIAN
METHOD:PUBLISH
X-WR-CALNAME:CIEDUR :: Centro Interdisciplinario de Estudios sobre Desarrollo
X-ORIGINAL-URL:https://ciedur.org.uy/site
X-WR-CALDESC:Eventos para CIEDUR :: Centro Interdisciplinario de Estudios sobre Desarrollo
BEGIN:VTIMEZONE
TZID:UTC
BEGIN:STANDARD
TZOFFSETFROM:+0000
TZOFFSETTO:+0000
TZNAME:UTC
DTSTART:20210101T000000
END:STANDARD
END:VTIMEZONE
BEGIN:VEVENT
DTSTART;TZID=UTC:20211116T100000
DTEND;TZID=UTC:20211116T120000
DTSTAMP:20260423T211548
CREATED:20211111T203723Z
LAST-MODIFIED:20211111T204102Z
UID:1109-1637056800-1637064000@ciedur.org.uy
SUMMARY:Seminario web: El Acuerdo de Escazú\, un compromiso regional sobre el acceso a la información\, la participación pública y el acceso a la Justicia en asuntos ambientales en América Latina y el Caribe
DESCRIPTION:Las Naciones Unidas en Uruguay\, a través de ACNUDH\, CEPAL\, PNUMA y PNUD\, organizan el seminario web sobre el Acuerdo de Escazú\, un compromiso regional sobre el acceso a la información\, la participación pública y el acceso a la Justicia en asuntos ambientales en América Latina y el Caribe. La actividad contará con la participación de especialistas nacionales e internacionales. \nDestacamos la participación de Andrea Detjen. \nInscripción previa\, aquí. \n 
URL:https://ciedur.org.uy/site/agenda/seminario-web-el-acuerdo-de-escazu-un-compromiso-regional-sobre-el-acceso-a-la-informacion-la-participacion-publica-y-el-acceso-a-la-justicia-en-asuntos-ambientales-en-america-latina-y-el-caribe/
LOCATION:ONU Uruguay
END:VEVENT
END:VCALENDAR