BEGIN:VCALENDAR
VERSION:2.0
PRODID:-//CIEDUR :: Centro Interdisciplinario de Estudios sobre Desarrollo - ECPv5.8.1//NONSGML v1.0//EN
CALSCALE:GREGORIAN
METHOD:PUBLISH
X-WR-CALNAME:CIEDUR :: Centro Interdisciplinario de Estudios sobre Desarrollo
X-ORIGINAL-URL:https://ciedur.org.uy/site
X-WR-CALDESC:Eventos para CIEDUR :: Centro Interdisciplinario de Estudios sobre Desarrollo
BEGIN:VTIMEZONE
TZID:UTC
BEGIN:STANDARD
TZOFFSETFROM:+0000
TZOFFSETTO:+0000
TZNAME:UTC
DTSTART:20230101T000000
END:STANDARD
END:VTIMEZONE
BEGIN:VEVENT
DTSTART;TZID=UTC:20230829T090000
DTEND;TZID=UTC:20230829T133000
DTSTAMP:20260424T054325
CREATED:20230829T221242Z
LAST-MODIFIED:20230901T142703Z
UID:1724-1693299600-1693315800@ciedur.org.uy
SUMMARY:Seminario Internacional: Trabajo y cuidados: el rol de la formación y la certificación de competencias laborales en la construcción de sistemas de cuidados
DESCRIPTION:Destacamos la participación de Alma Espino en el Seminario Internacional: Trabajo y cuidados: el rol de la formación y la certificación de competencias laborales en la construcción de sistemas de cuidados\, desarrollado hoy. \nLas Naciones Unidas Uruguay y la Red Pro Cuidados desarrollaron este evento que forma parte del ciclo de actividades del Foro Nacional de Cuidados\, una iniciativa que busca fortalecer una coalición de apoyo al Sistema Nacional Integral de Cuidados (SNIC) y su consolidación como política de Estado. \nLa relevancia del trabajo de cuidados\, tanto remunerado como no remunerado\, no puede ser subestimada en la búsqueda de sociedades más justas\, equitativas e inclusivas. América Latina y el Caribe han puesto un enfoque importante en el diseño y ejecución de políticas que mejoren este ámbito\, y la formación y certificación de competencias laborales en el sector es un pilar fundamental. \nLa Organización Internacional del Trabajo (OIT) a través de su programa Cinterfor\, está liderando un proceso de reflexión y diálogo sobre la formación profesional en el contexto de las políticas de cuidados. En este seminario\, se discuten buenas prácticas y se definen directrices para incorporar servicios de formación y certificación en el ámbito de los cuidados. \nParticipantes de renombre nacional e internacional comparten sus perspectivas y enriquecen este diálogo crucial. \nCliquear acá para ver el Seminario completo.
URL:https://ciedur.org.uy/site/agenda/seminario-internacional-trabajo-y-cuidados-el-rol-de-la-formacion-y-la-certificacion-de-competencias-laborales-en-la-construccion-de-sistemas-de-cuidados/
END:VEVENT
END:VCALENDAR