BEGIN:VCALENDAR
VERSION:2.0
PRODID:-//CIEDUR :: Centro Interdisciplinario de Estudios sobre Desarrollo - ECPv5.8.1//NONSGML v1.0//EN
CALSCALE:GREGORIAN
METHOD:PUBLISH
X-WR-CALNAME:CIEDUR :: Centro Interdisciplinario de Estudios sobre Desarrollo
X-ORIGINAL-URL:https://ciedur.org.uy/site
X-WR-CALDESC:Eventos para CIEDUR :: Centro Interdisciplinario de Estudios sobre Desarrollo
BEGIN:VTIMEZONE
TZID:UTC
BEGIN:STANDARD
TZOFFSETFROM:+0000
TZOFFSETTO:+0000
TZNAME:UTC
DTSTART:20210101T000000
END:STANDARD
END:VTIMEZONE
BEGIN:VEVENT
DTSTART;TZID=UTC:20211011T090000
DTEND;TZID=UTC:20211012T140000
DTSTAMP:20260423T060027
CREATED:20211013T201441Z
LAST-MODIFIED:20211112T122746Z
UID:1051-1633942800-1634047200@ciedur.org.uy
SUMMARY:Seminario Ciudades que cuidan. Aportes a la sostenibilidad de la vida
DESCRIPTION:Seminario «Ciudades que cuidan». Aportes a la sostenibilidad de la vida. \nImaginemos ciudades e infraestructuras urbanas y colectivas que coloquen en el centro a las personas y sus necesidades. \nDestacamos la participación de Soledad Salvador. \nInscripción sin costo\, aforo limitado\, aquí. \nVer en vivo\, aquí.
URL:https://ciedur.org.uy/site/agenda/seminario-ciudades-que-cuidan-aportes-a-la-sostenibilidad-de-la-vida/
END:VEVENT
END:VCALENDAR