BEGIN:VCALENDAR
VERSION:2.0
PRODID:-//CIEDUR :: Centro Interdisciplinario de Estudios sobre Desarrollo - ECPv5.8.1//NONSGML v1.0//EN
CALSCALE:GREGORIAN
METHOD:PUBLISH
X-WR-CALNAME:CIEDUR :: Centro Interdisciplinario de Estudios sobre Desarrollo
X-ORIGINAL-URL:https://ciedur.org.uy/site
X-WR-CALDESC:Eventos para CIEDUR :: Centro Interdisciplinario de Estudios sobre Desarrollo
BEGIN:VTIMEZONE
TZID:UTC
BEGIN:STANDARD
TZOFFSETFROM:+0000
TZOFFSETTO:+0000
TZNAME:UTC
DTSTART:20230101T000000
END:STANDARD
END:VTIMEZONE
BEGIN:VEVENT
DTSTART;VALUE=DATE:20230926
DTEND;VALUE=DATE:20230929
DTSTAMP:20260423T224202
CREATED:20230911T192838Z
LAST-MODIFIED:20230911T201034Z
UID:1740-1695686400-1695945599@ciedur.org.uy
SUMMARY:Segundo Foro Anual sobre Defensoras y Defensores de los Derechos Humanos en Asuntos Ambientales de América Latina y el Caribe
DESCRIPTION:El Segundo Foro Anual de Defensoras de Derechos Humanos en Asuntos Ambientales se llevará a cabo en la Ciudad de Panamá del 26 al 28 de septiembre. Este evento\, organizado por CEPAL en colaboración con PNUMA\, ACNUDH\, PNUD y el Gobierno de Panamá\, se enfocará en la protección de las personas defensoras en la región. \nDestacamos la participación de Andrea Detjen. \nLos objetivos del Foro son los siguientes:\na. Reflexionar sobre los riesgos que enfrentan las defensoras de derechos ambientales.\nb. Conocer las iniciativas de promoción y protección existentes.\nc. Fortalecer las capacidades y la cooperación en esta área.\nd. Discutir propuestas para el Plan de Acción. \nEste evento se llevará a cabo de manera presencial y será transmitido en vivo.\nRegistro para participar en las mesas de trabajo de manera virtual aquí (sólo 28 de septiembre).
URL:https://ciedur.org.uy/site/agenda/segundo-foro-anual-sobre-defensoras-y-defensores-de-los-derechos-humanos-en-asuntos-ambientales-de-america-latina-y-el-caribe/
END:VEVENT
END:VCALENDAR