BEGIN:VCALENDAR
VERSION:2.0
PRODID:-//CIEDUR :: Centro Interdisciplinario de Estudios sobre Desarrollo - ECPv5.8.1//NONSGML v1.0//EN
CALSCALE:GREGORIAN
METHOD:PUBLISH
X-WR-CALNAME:CIEDUR :: Centro Interdisciplinario de Estudios sobre Desarrollo
X-ORIGINAL-URL:https://ciedur.org.uy/site
X-WR-CALDESC:Eventos para CIEDUR :: Centro Interdisciplinario de Estudios sobre Desarrollo
BEGIN:VTIMEZONE
TZID:UTC
BEGIN:STANDARD
TZOFFSETFROM:+0000
TZOFFSETTO:+0000
TZNAME:UTC
DTSTART:20210101T000000
END:STANDARD
END:VTIMEZONE
BEGIN:VEVENT
DTSTART;TZID=UTC:20210731T162700
DTEND;TZID=UTC:20210731T162700
DTSTAMP:20260420T020605
CREATED:20210803T162733Z
LAST-MODIFIED:20210817T031513Z
UID:698-1627748820-1627748820@ciedur.org.uy
SUMMARY:PRIMER TALLER PRÁCTICO DE BIOCONSTRUCCIÓN GRATUITO
DESCRIPTION:En el marco del Proyecto ECCOSUR\, la Organización Solís en Transición\, el Municipio Solís y la Agrupación Criolla Santa María de Solís\, organizaron el primer taller práctico de bioconstrucción gratuito\, en el Parque Mataojo\, Solís de Mataojo.
URL:https://ciedur.org.uy/site/agenda/primer-taller-practico-de-bioconstruccion-gratuito/
CATEGORIES:tribe_events
END:VEVENT
END:VCALENDAR