BEGIN:VCALENDAR
VERSION:2.0
PRODID:-//CIEDUR :: Centro Interdisciplinario de Estudios sobre Desarrollo - ECPv5.8.1//NONSGML v1.0//EN
CALSCALE:GREGORIAN
METHOD:PUBLISH
X-WR-CALNAME:CIEDUR :: Centro Interdisciplinario de Estudios sobre Desarrollo
X-ORIGINAL-URL:https://ciedur.org.uy/site
X-WR-CALDESC:Eventos para CIEDUR :: Centro Interdisciplinario de Estudios sobre Desarrollo
BEGIN:VTIMEZONE
TZID:UTC
BEGIN:STANDARD
TZOFFSETFROM:+0000
TZOFFSETTO:+0000
TZNAME:UTC
DTSTART:20250101T000000
END:STANDARD
END:VTIMEZONE
BEGIN:VEVENT
DTSTART;VALUE=DATE:20250326
DTEND;VALUE=DATE:20250329
DTSTAMP:20260423T060946
CREATED:20250324T183114Z
LAST-MODIFIED:20250326T165018Z
UID:2472-1742947200-1743206399@ciedur.org.uy
SUMMARY:Primer Encuentro de economía feminista de Abya Yala
DESCRIPTION:Del 26 al 28 de marzo\, la UNSAM invita a participar del encuentro “Desde las economías feministas\, politicemos el malestar”. \n\n\n\n\nAbya Yala o Abya yala (del idioma guna abiayala para ‘tierra en plena madurez’) es un nombre utilizado por algunos movimientos sociales y pensadores originarios americanos para referirse al continente americano en su totalidad. El término proviene del idioma guna\, hablado por los gunadule —pueblo originario de Colombia y Panamá—\, y fue propuesto en 1977 por el líder del pueblo aimara boliviano Takir Mamani ante el Consejo Mundial de los Pueblos Indígenas durante la II Cumbre Continental de los Pueblos y Nacionalidades Indígenas celebrada en Kiruna (Suecia). \nDestacamos la participación de Alma Espino el día 26 de marzo. \n\n\nEl Primer encuentro de Economía Feminista de Abya Yala se realizará del 26 al 28 de marzo en el Campus Miguelete de la UNSAM. Durante tres jornadas intensivas\, se buscará reflexionar y debatir desde la perspectiva de las economías feministas en torno a seis ejes estratégicos: \n\nLa potencia transformadora de los cuidados\nSistema financiero\, deudas y dinero\nContra la ultraderecha: interpretar y enfrentar su avance\nProcesos sociales críticos para construir una resistencia común\nTiempos y miedos del sistema como control cultural\, social y político\nExpresiones artísticoculturales desde la economía feminista\n\nPrograma\nInscripciones\nDocumento Convocatoria \nConsultas: economiafeministaabyayala2025@gmail.com
URL:https://ciedur.org.uy/site/agenda/primer-encuentro-de-economia-feminista-de-abya-yala/
LOCATION:Campus Miguelete de la UNSAM\, 25 de mayo y Francia\, San Martín\, Argentina
END:VEVENT
END:VCALENDAR