BEGIN:VCALENDAR
VERSION:2.0
PRODID:-//CIEDUR :: Centro Interdisciplinario de Estudios sobre Desarrollo - ECPv5.8.1//NONSGML v1.0//EN
CALSCALE:GREGORIAN
METHOD:PUBLISH
X-WR-CALNAME:CIEDUR :: Centro Interdisciplinario de Estudios sobre Desarrollo
X-ORIGINAL-URL:https://ciedur.org.uy/site
X-WR-CALDESC:Eventos para CIEDUR :: Centro Interdisciplinario de Estudios sobre Desarrollo
BEGIN:VTIMEZONE
TZID:UTC
BEGIN:STANDARD
TZOFFSETFROM:+0000
TZOFFSETTO:+0000
TZNAME:UTC
DTSTART:20240101T000000
END:STANDARD
END:VTIMEZONE
BEGIN:VEVENT
DTSTART;TZID=UTC:20241206T100000
DTEND;TZID=UTC:20241206T130000
DTSTAMP:20260423T131036
CREATED:20241203T193216Z
LAST-MODIFIED:20241203T195750Z
UID:2373-1733479200-1733490000@ciedur.org.uy
SUMMARY:Presentación Trabajo de sensibilización en violencia basada en género Articulado entre la Dirección de Género y Equidad y CIEDUR
DESCRIPTION:
URL:https://ciedur.org.uy/site/agenda/presentacion-trabajo-de-sensibilizacion-en-violencia-basada-en-genero-articulado-entre-la-direccion-de-genero-y-equidad-y-ciedur/
LOCATION:Complejo Cultural Politeama – Teatro Atahualpa del Cioppo. Sala Beto Satragni\, Tomás Berreta 312\, Canelones\, Uruguay
END:VEVENT
END:VCALENDAR