BEGIN:VCALENDAR
VERSION:2.0
PRODID:-//CIEDUR :: Centro Interdisciplinario de Estudios sobre Desarrollo - ECPv5.8.1//NONSGML v1.0//EN
CALSCALE:GREGORIAN
METHOD:PUBLISH
X-WR-CALNAME:CIEDUR :: Centro Interdisciplinario de Estudios sobre Desarrollo
X-ORIGINAL-URL:https://ciedur.org.uy/site
X-WR-CALDESC:Eventos para CIEDUR :: Centro Interdisciplinario de Estudios sobre Desarrollo
BEGIN:VTIMEZONE
TZID:UTC
BEGIN:STANDARD
TZOFFSETFROM:+0000
TZOFFSETTO:+0000
TZNAME:UTC
DTSTART:20210101T000000
END:STANDARD
END:VTIMEZONE
BEGIN:VEVENT
DTSTART;TZID=UTC:20211202T093000
DTEND;TZID=UTC:20211202T123000
DTSTAMP:20260424T055843
CREATED:20211126T180448Z
LAST-MODIFIED:20211126T181717Z
UID:1143-1638437400-1638448200@ciedur.org.uy
SUMMARY:Presentación del Mirador DESCA
DESCRIPTION:
URL:https://ciedur.org.uy/site/agenda/presentacion-del-mirador-desca/
END:VEVENT
END:VCALENDAR