BEGIN:VCALENDAR
VERSION:2.0
PRODID:-//CIEDUR :: Centro Interdisciplinario de Estudios sobre Desarrollo - ECPv5.8.1//NONSGML v1.0//EN
CALSCALE:GREGORIAN
METHOD:PUBLISH
X-WR-CALNAME:CIEDUR :: Centro Interdisciplinario de Estudios sobre Desarrollo
X-ORIGINAL-URL:https://ciedur.org.uy/site
X-WR-CALDESC:Eventos para CIEDUR :: Centro Interdisciplinario de Estudios sobre Desarrollo
BEGIN:VTIMEZONE
TZID:UTC
BEGIN:STANDARD
TZOFFSETFROM:+0000
TZOFFSETTO:+0000
TZNAME:UTC
DTSTART:20210101T000000
END:STANDARD
END:VTIMEZONE
BEGIN:VEVENT
DTSTART;TZID=UTC:20210706T140000
DTEND;TZID=UTC:20210706T153000
DTSTAMP:20260422T201157
CREATED:20210706T164648Z
LAST-MODIFIED:20210817T002132Z
UID:684-1625580000-1625585400@ciedur.org.uy
SUMMARY:Presentación del libro “Los Cuidados: del centro de la vida al centro de la política”.
DESCRIPTION:Un estudio comparado de los cuidados en 12 países de América Latina\, editado por Aylinn Torres Santana y escrito por más de 20 autoras y autores de diversos países.\nUna propuesta de FESminismos. \nDestacamos la participación de Soledad Salvador. \nDescargar el libro\, aquí.
URL:https://ciedur.org.uy/site/agenda/presentacion-del-libro-los-cuidados-del-centro-de-la-vida-al-centro-de-la-politica/
CATEGORIES:tribe_events
END:VEVENT
END:VCALENDAR