BEGIN:VCALENDAR
VERSION:2.0
PRODID:-//CIEDUR :: Centro Interdisciplinario de Estudios sobre Desarrollo - ECPv5.8.1//NONSGML v1.0//EN
CALSCALE:GREGORIAN
METHOD:PUBLISH
X-WR-CALNAME:CIEDUR :: Centro Interdisciplinario de Estudios sobre Desarrollo
X-ORIGINAL-URL:https://ciedur.org.uy/site
X-WR-CALDESC:Eventos para CIEDUR :: Centro Interdisciplinario de Estudios sobre Desarrollo
BEGIN:VTIMEZONE
TZID:UTC
BEGIN:STANDARD
TZOFFSETFROM:+0000
TZOFFSETTO:+0000
TZNAME:UTC
DTSTART:20240101T000000
END:STANDARD
END:VTIMEZONE
BEGIN:VEVENT
DTSTART;TZID=UTC:20241008T190000
DTEND;TZID=UTC:20241008T203000
DTSTAMP:20260424T101417
CREATED:20241008T171429Z
LAST-MODIFIED:20241008T172055Z
UID:2201-1728414000-1728419400@ciedur.org.uy
SUMMARY:PRESENTACIÓN DEL DOCUMENTO: APORTES A LA POLÍTICA Y PLAN QUINQUENAL DE VIVIENDA 2025
DESCRIPTION:Presentación del documento: “Plataforma social sobre aportes a la política y Plan Quinquenal de Vivienda 2025 en diálogo Universidad-Actores sociales”. \nMás de 30 organizaciones han comenzado un proceso de trabajo conjunto de elaboración de propuestas y de reivindicación sobre el ejercicio del derecho a la vivienda y a la ciudad. \nEste documento contiene propuestas de organizaciones y colectivos vinculados a la vivienda y hábitat\, junto a la Universidad de la República. \nVideo presentación\, aquí.
URL:https://ciedur.org.uy/site/agenda/presentacion-del-documento-aportes-a-la-politica-y-plan-quinquenal-de-vivienda-2025/
LOCATION:Sala Acuña de Figueroa del edificio José Artigas anexo al Palacio Legislativo\, Montevideo\, Uruguay
END:VEVENT
END:VCALENDAR