BEGIN:VCALENDAR
VERSION:2.0
PRODID:-//CIEDUR :: Centro Interdisciplinario de Estudios sobre Desarrollo - ECPv5.8.1//NONSGML v1.0//EN
CALSCALE:GREGORIAN
METHOD:PUBLISH
X-WR-CALNAME:CIEDUR :: Centro Interdisciplinario de Estudios sobre Desarrollo
X-ORIGINAL-URL:https://ciedur.org.uy/site
X-WR-CALDESC:Eventos para CIEDUR :: Centro Interdisciplinario de Estudios sobre Desarrollo
BEGIN:VTIMEZONE
TZID:UTC
BEGIN:STANDARD
TZOFFSETFROM:+0000
TZOFFSETTO:+0000
TZNAME:UTC
DTSTART:20210101T000000
END:STANDARD
END:VTIMEZONE
BEGIN:VEVENT
DTSTART;TZID=UTC:20210826T100000
DTEND;TZID=UTC:20210826T120000
DTSTAMP:20260422T145153
CREATED:20210824T151423Z
LAST-MODIFIED:20210824T152116Z
UID:938-1629972000-1629979200@ciedur.org.uy
SUMMARY:Presentación de datos de la encuesta: Violencia y desigualdad de género en el trabajo
DESCRIPTION:Destacamos la participación de Soledad Salvador. \nInscripciones: correo@industriaintegrada.uy \nTransmisión en vivo\, aquí.
URL:https://ciedur.org.uy/site/agenda/presentacion-de-datos-de-la-encuesta-violencia-y-desigualdad-de-genero-en-el-trabajo/
LOCATION:En El Recreo\, Sarandí 320\, Montevideo\, Uruguay
END:VEVENT
END:VCALENDAR