BEGIN:VCALENDAR
VERSION:2.0
PRODID:-//CIEDUR :: Centro Interdisciplinario de Estudios sobre Desarrollo - ECPv5.8.1//NONSGML v1.0//EN
CALSCALE:GREGORIAN
METHOD:PUBLISH
X-WR-CALNAME:CIEDUR :: Centro Interdisciplinario de Estudios sobre Desarrollo
X-ORIGINAL-URL:https://ciedur.org.uy/site
X-WR-CALDESC:Eventos para CIEDUR :: Centro Interdisciplinario de Estudios sobre Desarrollo
BEGIN:VTIMEZONE
TZID:UTC
BEGIN:STANDARD
TZOFFSETFROM:+0000
TZOFFSETTO:+0000
TZNAME:UTC
DTSTART:20230101T000000
END:STANDARD
END:VTIMEZONE
BEGIN:VEVENT
DTSTART;TZID=UTC:20230725T073000
DTEND;TZID=UTC:20230728T180000
DTSTAMP:20260424T071353
CREATED:20230728T163201Z
LAST-MODIFIED:20230728T163201Z
UID:1707-1690270200-1690567200@ciedur.org.uy
SUMMARY:Por un pacto fiscal para sostener la vida en América Latina y el Caribe: Hacia una tributación inclusiva\, equitativa y transparente
DESCRIPTION:DOCUMENTO MINISTROS IMPRESIÓN \nAGENDA
URL:https://ciedur.org.uy/site/agenda/por-un-pacto-fiscal-para-sostener-la-vida-en-america-latina-y-el-caribe-hacia-una-tributacion-inclusiva-equitativa-y-transparente/
LOCATION:HYATT CARTAGENA\, Cra. 1 #12-118\, Cartagena de Indias\, Provincia de Cartagena\, Bolívar\, Colombia\, Cartagena de Indias\, Colombia
END:VEVENT
END:VCALENDAR