BEGIN:VCALENDAR
VERSION:2.0
PRODID:-//CIEDUR :: Centro Interdisciplinario de Estudios sobre Desarrollo - ECPv5.8.1//NONSGML v1.0//EN
CALSCALE:GREGORIAN
METHOD:PUBLISH
X-WR-CALNAME:CIEDUR :: Centro Interdisciplinario de Estudios sobre Desarrollo
X-ORIGINAL-URL:https://ciedur.org.uy/site
X-WR-CALDESC:Eventos para CIEDUR :: Centro Interdisciplinario de Estudios sobre Desarrollo
BEGIN:VTIMEZONE
TZID:UTC
BEGIN:STANDARD
TZOFFSETFROM:+0000
TZOFFSETTO:+0000
TZNAME:UTC
DTSTART:20210101T000000
END:STANDARD
END:VTIMEZONE
BEGIN:VEVENT
DTSTART;TZID=UTC:20210630T110000
DTEND;TZID=UTC:20210630T130000
DTSTAMP:20260423T000006
CREATED:20210629T100848Z
LAST-MODIFIED:20210817T002840Z
UID:682-1625050800-1625058000@ciedur.org.uy
SUMMARY:Políticas de cuidado: como transformar un sector en crecimiento en una oportunidad para el empleo con perspectiva de género
DESCRIPTION:Destacamos la participación como panelista de Soledad Salvador: «La mirada regional sobre América Latina». \nActividad en el marco del Foro Generación Igualdad que fue inaugurado en la Ciudad de México (México) del 29 al 31 de marzo de 2021 y culmina en París (Francia) del 29 de junio al 02 de julio de 2021. \n«El Foro Generación Igualdad es una reunión mundial a favor de la igualdad de género\, convocada por ONU Mujeres y copresidida conjuntamente por los Gobiernos de México y Francia\, con el liderazgo y la participación de la sociedad civil. Veinticinco años después de la histórica Cuarta Conferencia Mundial sobre la Mujer y de la adopción de la Declaración y Plataforma de Acción de Beijing\, el marco más integral para el logro del empoderamiento de las mujeres y la igualdad de género\, el Foro hace un recuento de los avances y está dando forma a un programa de medidas concretas para avanzar hacia la igualdad de género de aquí a 2030.». \nNota conceptual y programa\, aquí. \nMás información\, aquí. \nVer reunión\, aquí.
URL:https://ciedur.org.uy/site/agenda/politicas-de-cuidado-como-transformar-un-sector-en-crecimiento-en-una-oportunidad-para-el-empleo-con-perspectiva-de-genero/
CATEGORIES:tribe_events
END:VEVENT
END:VCALENDAR