BEGIN:VCALENDAR
VERSION:2.0
PRODID:-//CIEDUR :: Centro Interdisciplinario de Estudios sobre Desarrollo - ECPv5.8.1//NONSGML v1.0//EN
CALSCALE:GREGORIAN
METHOD:PUBLISH
X-WR-CALNAME:CIEDUR :: Centro Interdisciplinario de Estudios sobre Desarrollo
X-ORIGINAL-URL:https://ciedur.org.uy/site
X-WR-CALDESC:Eventos para CIEDUR :: Centro Interdisciplinario de Estudios sobre Desarrollo
BEGIN:VTIMEZONE
TZID:UTC
BEGIN:STANDARD
TZOFFSETFROM:+0000
TZOFFSETTO:+0000
TZNAME:UTC
DTSTART:20210101T000000
END:STANDARD
END:VTIMEZONE
BEGIN:VEVENT
DTSTART;TZID=UTC:20211130T140000
DTEND;TZID=UTC:20211130T160000
DTSTAMP:20260424T023041
CREATED:20211126T161957Z
LAST-MODIFIED:20211126T161957Z
UID:1137-1638280800-1638288000@ciedur.org.uy
SUMMARY:Mujeres viejas y el cuidado: pilares invisibles de la protección social
DESCRIPTION:La actividad tiene como objetivo visibilizar y discutir sobre los lugares de las mujeres viejas dentro de los cuidados\, aportando de esta\nforma a la reflexión sobre el papel que desempeñan como sostenes\nesenciales de la provisión de bienestar. Asimismo\, se problematizará\nsobre los diferentes roles que se pueden ejercer en la vejez. \nContará con las siguientes expositoras: \nSoledad Salvador\, licenciada en economía por la Universidad de la\nRepública (UdelaR)\, integrante del Centro Interdisciplinario de\nEstudios sobre el Desarrollo (Ciedur).\nSol Scavino Solari\, magistrada en sociología por la UdelaR\, docente\nde la Facultad de Ciencias Sociales de la Udelar.\nMarianela Larzabal\, licenciada en sociología por la UdelaR\,\ncoordinadora del centro de día La Paz de la Fundación Centro de\nEducación Popular (FCEP). \nLa actividad es organizada por el Instituto Nacional de las Personas Mayores\, el Instituto Nacional de las Mujeres y la Secretaría Nacional\nde Cuidados y Discapacidad del Ministerio de Desarrollo Social. \nEl conversatorio es abierto al público en general. \nFormulario de inscripción\, aquí. \nVer en vivo\, aquí.
URL:https://ciedur.org.uy/site/agenda/mujeres-viejas-y-el-cuidado-pilares-invisibles-de-la-proteccion-social/
END:VEVENT
END:VCALENDAR