BEGIN:VCALENDAR
VERSION:2.0
PRODID:-//CIEDUR :: Centro Interdisciplinario de Estudios sobre Desarrollo - ECPv5.8.1//NONSGML v1.0//EN
CALSCALE:GREGORIAN
METHOD:PUBLISH
X-WR-CALNAME:CIEDUR :: Centro Interdisciplinario de Estudios sobre Desarrollo
X-ORIGINAL-URL:https://ciedur.org.uy/site
X-WR-CALDESC:Eventos para CIEDUR :: Centro Interdisciplinario de Estudios sobre Desarrollo
BEGIN:VTIMEZONE
TZID:UTC
BEGIN:STANDARD
TZOFFSETFROM:+0000
TZOFFSETTO:+0000
TZNAME:UTC
DTSTART:20210101T000000
END:STANDARD
END:VTIMEZONE
BEGIN:VEVENT
DTSTART;TZID=UTC:20210701T183000
DTEND;TZID=UTC:20210701T193000
DTSTAMP:20260422T221357
CREATED:20210629T102448Z
LAST-MODIFIED:20210817T002421Z
UID:683-1625164200-1625167800@ciedur.org.uy
SUMMARY:Miradas de género desde la sociología
DESCRIPTION:Destacamos la participación de Daniela de los Santos: «Cuando los cuidados se re-familiarizan: impactos de género de la pandemia en Uruguay y posibles escenarios de política.» \nInscripción previa a través de: colegiodesociologos.uy@gmail.com. \nVer Seminario\, aquí.
URL:https://ciedur.org.uy/site/agenda/miradas-de-genero-desde-la-sociologia/
CATEGORIES:tribe_events
END:VEVENT
END:VCALENDAR