BEGIN:VCALENDAR
VERSION:2.0
PRODID:-//CIEDUR :: Centro Interdisciplinario de Estudios sobre Desarrollo - ECPv5.8.1//NONSGML v1.0//EN
CALSCALE:GREGORIAN
METHOD:PUBLISH
X-WR-CALNAME:CIEDUR :: Centro Interdisciplinario de Estudios sobre Desarrollo
X-ORIGINAL-URL:https://ciedur.org.uy/site
X-WR-CALDESC:Eventos para CIEDUR :: Centro Interdisciplinario de Estudios sobre Desarrollo
BEGIN:VTIMEZONE
TZID:UTC
BEGIN:STANDARD
TZOFFSETFROM:+0000
TZOFFSETTO:+0000
TZNAME:UTC
DTSTART:20210101T000000
END:STANDARD
END:VTIMEZONE
BEGIN:VEVENT
DTSTART;TZID=UTC:20210814T093000
DTEND;TZID=UTC:20210814T163000
DTSTAMP:20260419T235948
CREATED:20210820T121942Z
LAST-MODIFIED:20210820T121954Z
UID:906-1628933400-1628958600@ciedur.org.uy
SUMMARY:Minga bioconstrucción
DESCRIPTION:  \nEn el marco del Proyecto ECCOSUR\, Nido Churrinche organizó una minga bioconstrucción. \nPor información e inscripciones:091851037
URL:https://ciedur.org.uy/site/agenda/minga-bioconstruccion/
END:VEVENT
END:VCALENDAR