BEGIN:VCALENDAR
VERSION:2.0
PRODID:-//CIEDUR :: Centro Interdisciplinario de Estudios sobre Desarrollo - ECPv5.8.1//NONSGML v1.0//EN
CALSCALE:GREGORIAN
METHOD:PUBLISH
X-WR-CALNAME:CIEDUR :: Centro Interdisciplinario de Estudios sobre Desarrollo
X-ORIGINAL-URL:https://ciedur.org.uy/site
X-WR-CALDESC:Eventos para CIEDUR :: Centro Interdisciplinario de Estudios sobre Desarrollo
BEGIN:VTIMEZONE
TZID:UTC
BEGIN:STANDARD
TZOFFSETFROM:+0000
TZOFFSETTO:+0000
TZNAME:UTC
DTSTART:20210101T000000
END:STANDARD
END:VTIMEZONE
BEGIN:VEVENT
DTSTART;TZID=UTC:20210717T093000
DTEND;TZID=UTC:20210717T163000
DTSTAMP:20260422T105124
CREATED:20210715T145348Z
LAST-MODIFIED:20210817T000702Z
UID:686-1626514200-1626539400@ciedur.org.uy
SUMMARY:MINGA AGRICULTURA - PREPARACIÓN DE HUERTA PARA LA SIEMBRA DE PRIMAVERA Y TRASPLANTE DE ÁRBOLES
DESCRIPTION:En el marco del Proyecto ECCOSUR\, el Colectivo Nido Churrinche organizó la «Minga Agricultura – Preparación de huerta para la siembra de la primavera y transplante de árboles». \nInscripción previa a través de WhatsApp: 098 685 755
URL:https://ciedur.org.uy/site/agenda/minga-agricultura-preparacion-de-huerta-para-la-siembra-de-primavera-y-trasplante-de-arboles/
CATEGORIES:tribe_events
END:VEVENT
END:VCALENDAR