BEGIN:VCALENDAR
VERSION:2.0
PRODID:-//CIEDUR :: Centro Interdisciplinario de Estudios sobre Desarrollo - ECPv5.8.1//NONSGML v1.0//EN
CALSCALE:GREGORIAN
METHOD:PUBLISH
X-WR-CALNAME:CIEDUR :: Centro Interdisciplinario de Estudios sobre Desarrollo
X-ORIGINAL-URL:https://ciedur.org.uy/site
X-WR-CALDESC:Eventos para CIEDUR :: Centro Interdisciplinario de Estudios sobre Desarrollo
BEGIN:VTIMEZONE
TZID:UTC
BEGIN:STANDARD
TZOFFSETFROM:+0000
TZOFFSETTO:+0000
TZNAME:UTC
DTSTART:20210101T000000
END:STANDARD
END:VTIMEZONE
BEGIN:VEVENT
DTSTART;TZID=UTC:20211208T180000
DTEND;TZID=UTC:20211208T200000
DTSTAMP:20260424T073608
CREATED:20211207T214721Z
LAST-MODIFIED:20211207T214721Z
UID:1154-1638986400-1638993600@ciedur.org.uy
SUMMARY:Mesa redonda sobre el Tratado de Libre Comercio Uruguay-China
DESCRIPTION:Mesa redonda sobre Tratado de Libre Comercio Uruguay-China \nPonentes:\nRocío Lapitz – Asociación Rural del Uruguay\nAlma Espino – Ciedur\nAna Laura Fernández – Cámara de Comercio y Servicios del Uruguay\nViviana Barreto – Redes Amigos de la Tierra\nSebastián Pérez – Cámara de Industrias del Uruguay\nJorge Bermúdez – PIT-CNT \nPara participar deben registrarse\, aquí.
URL:https://ciedur.org.uy/site/agenda/mesa-redonda-sobre-el-tratado-de-libre-comercio-uruguay-china/
END:VEVENT
END:VCALENDAR