BEGIN:VCALENDAR
VERSION:2.0
PRODID:-//CIEDUR :: Centro Interdisciplinario de Estudios sobre Desarrollo - ECPv5.8.1//NONSGML v1.0//EN
CALSCALE:GREGORIAN
METHOD:PUBLISH
X-WR-CALNAME:CIEDUR :: Centro Interdisciplinario de Estudios sobre Desarrollo
X-ORIGINAL-URL:https://ciedur.org.uy/site
X-WR-CALDESC:Eventos para CIEDUR :: Centro Interdisciplinario de Estudios sobre Desarrollo
BEGIN:VTIMEZONE
TZID:UTC
BEGIN:STANDARD
TZOFFSETFROM:+0000
TZOFFSETTO:+0000
TZNAME:UTC
DTSTART:20250101T000000
END:STANDARD
END:VTIMEZONE
BEGIN:VEVENT
DTSTART;TZID=UTC:20250325T093000
DTEND;TZID=UTC:20250325T100000
DTSTAMP:20260423T094341
CREATED:20250324T195752Z
LAST-MODIFIED:20250324T202539Z
UID:2479-1742895000-1742896800@ciedur.org.uy
SUMMARY:M-Industria: Primer encuentro de mujeres industriales
DESCRIPTION:M-Industria: Primer Encuentro de Mujeres Industriales \nUn espacio para visibilizar y potenciar el rol de las mujeres en el sector. \nClub de los Industriales (Av. Italia 6101) \nDestacado en la agenda:09:30 – 10:00 hs | «La industria: brechas\, desafíos y oportunidades para la autonomía económica de las mujeres»Exposición de la Ec. Alma Espino \nUn evento clave para conectar\, inspirar y fortalecer el liderazgo femenino en la industria. \nPrograma
URL:https://ciedur.org.uy/site/agenda/m-industria-primer-encuentro-de-mujeres-industriales/
LOCATION:Club de los Industriales\, Av. Italia 6101\, Montevideo\, Uruguay
END:VEVENT
END:VCALENDAR