BEGIN:VCALENDAR
VERSION:2.0
PRODID:-//CIEDUR :: Centro Interdisciplinario de Estudios sobre Desarrollo - ECPv5.8.1//NONSGML v1.0//EN
CALSCALE:GREGORIAN
METHOD:PUBLISH
X-WR-CALNAME:CIEDUR :: Centro Interdisciplinario de Estudios sobre Desarrollo
X-ORIGINAL-URL:https://ciedur.org.uy/site
X-WR-CALDESC:Eventos para CIEDUR :: Centro Interdisciplinario de Estudios sobre Desarrollo
BEGIN:VTIMEZONE
TZID:UTC
BEGIN:STANDARD
TZOFFSETFROM:+0000
TZOFFSETTO:+0000
TZNAME:UTC
DTSTART:20240101T000000
END:STANDARD
END:VTIMEZONE
BEGIN:VEVENT
DTSTART;TZID=UTC:20240320T180000
DTEND;TZID=UTC:20240320T200000
DTSTAMP:20260423T001440
CREATED:20240319T170637Z
LAST-MODIFIED:20240415T145416Z
UID:1966-1710957600-1710964800@ciedur.org.uy
SUMMARY:Los cuidados en el centro. ¿Qué entendemos por cuidado y cuál es su importancia?
DESCRIPTION:FORO VIRTUAL I 2024 (Abierto a todo el público) \nPonentes: Alma Espino (Uruguay)\, Flavia Marco (Bolivia) \nPresentación del curso: Verónica Serafini (Paraguay) \nModera: Andrea Larios (México) \nLa complejidad de los problemas económicos actuales requieren de un abordaje integral que incorpore los desafíos que tienen los países de América Latina sobre un tema central que la Economía Feminista está destacando con insistencia: los cuidados. \nEste Foro I\, desarrollado en marco de la apertura de los cursos sobre Economía Feminista (Básico y Tópicos Especializados) de Latindadd\, contará con la participación de dos expertas latinoamericanas en género y cuidados. Alma Espino (Uruguay) expondrá sobre la importancia del financiamiento de los cuidados por parte de los Estados de cara a construir sociedades con mayor igualdad social y de género. Por otro lado\, Flavia Marco (Bolivia)\, pondrá en debate las agendas y demandas de cuidado que emergen desde la sociedad. \nHORA:\n3:00 p.m. (Centroamérica y México)\n4:00 p.m. (Colombia\, Perú y Ecuador)\n5:00 p.m. (Bolivia)\n6:00 p.m. (Chile\, Paraguay\, Argentina\, Uruguay) \nInscripciones\, aquí. \nVer\, aquí.
URL:https://ciedur.org.uy/site/agenda/los-cuidados-en-el-centro-que-entendemos-por-cuidado-y-cual-es-su-importancia/
END:VEVENT
END:VCALENDAR