BEGIN:VCALENDAR
VERSION:2.0
PRODID:-//CIEDUR :: Centro Interdisciplinario de Estudios sobre Desarrollo - ECPv5.8.1//NONSGML v1.0//EN
CALSCALE:GREGORIAN
METHOD:PUBLISH
X-WR-CALNAME:CIEDUR :: Centro Interdisciplinario de Estudios sobre Desarrollo
X-ORIGINAL-URL:https://ciedur.org.uy/site
X-WR-CALDESC:Eventos para CIEDUR :: Centro Interdisciplinario de Estudios sobre Desarrollo
BEGIN:VTIMEZONE
TZID:UTC
BEGIN:STANDARD
TZOFFSETFROM:+0000
TZOFFSETTO:+0000
TZNAME:UTC
DTSTART:20200101T000000
END:STANDARD
END:VTIMEZONE
BEGIN:VEVENT
DTSTART;TZID=UTC:20200618T110000
DTEND;TZID=UTC:20200618T133000
DTSTAMP:20260423T122734
CREATED:20200618T084948Z
LAST-MODIFIED:20210817T022859Z
UID:646-1592478000-1592487000@ciedur.org.uy
SUMMARY:LAVS Asentamientos Precarios y COVID-19 en Latinoamérica y el Caribe
DESCRIPTION:Invitamos a partiticipar de LAVS Asentamientos Precarios y COVID-19 en Latinoamérica y el Caribe. \n  \n¿Cuáles son las respuestas y perspectivas de los liderazgos comunitarios de la región? \nEl objetivo de este #LAV es el de contribuir y recoger iniciativas para la acción pública en los asentamientos precarios de la región. \nDesde Ciedur expone: Ivahanna Larrosa. \n  \nJueves 18 de junio de 2020 | Transmisión por FB LIVE @UHPHub \n08:00 h – 10:30 h Centroamérica \n09:00 h – 11:30 h CDMX – Medellín – Lima \n10:00 h – 12:30 h Santiago \n11:00 h – 13:30 h BsAs – Montevideo – Sao Paulo \n15:00 h – 17:30 h London \n  \nOrganizan: CITIES ALLIANCE y la Plataforma UHPH \nColaboran: Habitat para la Humanidad\, UNIAPRAVI\, CLACSO\, RIVHA\, Ciedur\, REDEUS-LAC\, TECHO\, Plataforma Global por el Derecho a la Ciudad\, DPU-UCL y HIC-AL. \nApoya: del Banco Interamericano de Desarrollo.
URL:https://ciedur.org.uy/site/agenda/lavs-asentamientos-precarios-y-covid-19-en-latinoamerica-y-el-caribe/
CATEGORIES:tribe_events
END:VEVENT
END:VCALENDAR