BEGIN:VCALENDAR
VERSION:2.0
PRODID:-//CIEDUR :: Centro Interdisciplinario de Estudios sobre Desarrollo - ECPv5.8.1//NONSGML v1.0//EN
CALSCALE:GREGORIAN
METHOD:PUBLISH
X-WR-CALNAME:CIEDUR :: Centro Interdisciplinario de Estudios sobre Desarrollo
X-ORIGINAL-URL:https://ciedur.org.uy/site
X-WR-CALDESC:Eventos para CIEDUR :: Centro Interdisciplinario de Estudios sobre Desarrollo
BEGIN:VTIMEZONE
TZID:UTC
BEGIN:STANDARD
TZOFFSETFROM:+0000
TZOFFSETTO:+0000
TZNAME:UTC
DTSTART:20200101T000000
END:STANDARD
END:VTIMEZONE
BEGIN:VEVENT
DTSTART;TZID=UTC:20201216T110000
DTEND;TZID=UTC:20201216T123000
DTSTAMP:20260419T225517
CREATED:20201214T170948Z
LAST-MODIFIED:20210817T012332Z
UID:665-1608116400-1608121800@ciedur.org.uy
SUMMARY:Las mujeres cooperativistas tenemos propuestas
DESCRIPTION:Las mujeres cooperativistas tienen propuestas por hacer. Se presenta el documento: «Aportes para las políticas públicas desde el cooperativismo con perspectiva de género». \nParticipan legisladoras y legisladores nacionales y departamentales\, autoridades locales\, del cooperativismo y Soledad Salvador de Ciedur.\n\n\n \n\n\nPodes seguir el evento a través de la página de Facebook de la Federación de Cooperativas de Producción del Uruguay FCPU. \n\n\n \n\n\nEl evento se enmarca en el cierre de Cooperación con Equidad el proyecto de género del cooperativismo uruguayo llevado adelante por FCPU junto con sus socios Cudecoop y Cospe y que cuenta con la cofinanciación de la Unión Europea.
URL:https://ciedur.org.uy/site/agenda/las-mujeres-cooperativistas-tenemos-propuestas/
CATEGORIES:tribe_events
END:VEVENT
END:VCALENDAR