BEGIN:VCALENDAR
VERSION:2.0
PRODID:-//CIEDUR :: Centro Interdisciplinario de Estudios sobre Desarrollo - ECPv5.8.1//NONSGML v1.0//EN
CALSCALE:GREGORIAN
METHOD:PUBLISH
X-WR-CALNAME:CIEDUR :: Centro Interdisciplinario de Estudios sobre Desarrollo
X-ORIGINAL-URL:https://ciedur.org.uy/site
X-WR-CALDESC:Eventos para CIEDUR :: Centro Interdisciplinario de Estudios sobre Desarrollo
BEGIN:VTIMEZONE
TZID:UTC
BEGIN:STANDARD
TZOFFSETFROM:+0000
TZOFFSETTO:+0000
TZNAME:UTC
DTSTART:20210101T000000
END:STANDARD
END:VTIMEZONE
BEGIN:VEVENT
DTSTART;TZID=UTC:20210826T190000
DTEND;TZID=UTC:20210826T203000
DTSTAMP:20260422T181024
CREATED:20210823T135630Z
LAST-MODIFIED:20210908T210758Z
UID:934-1630004400-1630009800@ciedur.org.uy
SUMMARY:Lanzamiento resultados Diálogos desde el Sur
DESCRIPTION:Destacamos la participación de Andrea Detjen. \nLa transición justa está desarrollada por el movimiento sindical para asegurar los derechos y medios de vida de los trabajadores en tiempos donde las economías están cambiando a una producción sostenible\, principalmente\, con el combate del cambio climático y la protección de la biodiversidad.
URL:https://ciedur.org.uy/site/agenda/lanzamiento-resultados-dialogos-desde-el-sur/
END:VEVENT
END:VCALENDAR