BEGIN:VCALENDAR
VERSION:2.0
PRODID:-//CIEDUR :: Centro Interdisciplinario de Estudios sobre Desarrollo - ECPv5.8.1//NONSGML v1.0//EN
CALSCALE:GREGORIAN
METHOD:PUBLISH
X-WR-CALNAME:CIEDUR :: Centro Interdisciplinario de Estudios sobre Desarrollo
X-ORIGINAL-URL:https://ciedur.org.uy/site
X-WR-CALDESC:Eventos para CIEDUR :: Centro Interdisciplinario de Estudios sobre Desarrollo
BEGIN:VTIMEZONE
TZID:UTC
BEGIN:STANDARD
TZOFFSETFROM:+0000
TZOFFSETTO:+0000
TZNAME:UTC
DTSTART:20210101T000000
END:STANDARD
END:VTIMEZONE
BEGIN:VEVENT
DTSTART;TZID=UTC:20210422T190000
DTEND;TZID=UTC:20210422T210000
DTSTAMP:20260424T101643
CREATED:20210422T121833Z
LAST-MODIFIED:20210817T004534Z
UID:677-1619118000-1619125200@ciedur.org.uy
SUMMARY:Lanzamiento de la Plataforma "Vigilancia Ambiental" en Rocha
DESCRIPTION:La Red Uruguaya de ONG´s Ambientalistas  con el apoyo del  Gobierno de Rocha a través de la Dirección de Ambiente y del Proyecto ECCOSUR\, realizará  la presentación de la  Plataforma «Vigilancia Ambiental» en el departamento.   \nContará con la participación del Intendente de Rocha\, Alejo Umpiérrez; el Director de Ambiente\, Rodrigo García ; el Presidente de la Red Uruguaya de ONGs Ambientalistas\, Alejandro Corvi; miembros del Proyecto ECCOSUR y el equipo de la Plataforma «Vigilancia Ambiental». \nLa Plataforma de Monitoreo Ambiental Ciudadano »Vigilancia Ambiental«\, es una plataforma web participativa para reportar problemas ambientales\, fomentando un proceso transparente y colaborativo de resolución de los mismos. La Plataforma no solo logró la realización de informes\, sino también la difusión de experiencias ambientales de las organizaciones que se encuentran en territorio en la sección de «Acción Ambiental«. \nHa sido desarrollada por un equipo multidisciplinario de técnicos\, con el apoyo de la Red Uruguaya de ONG’s Ambientalistas\, DATA y AGESIC (Agencia de Gobierno Electrónico y Sociedad de la Información y del Conocimiento) y desde diciembre de 2020 cuenta con el apoyo del Proyecto ECCOSUR \n\n\nInscripciones aquí.
URL:https://ciedur.org.uy/site/agenda/lanzamiento-de-la-plataforma-vigilancia-ambiental-en-rocha/
CATEGORIES:tribe_events
END:VEVENT
END:VCALENDAR