BEGIN:VCALENDAR
VERSION:2.0
PRODID:-//CIEDUR :: Centro Interdisciplinario de Estudios sobre Desarrollo - ECPv5.8.1//NONSGML v1.0//EN
CALSCALE:GREGORIAN
METHOD:PUBLISH
X-WR-CALNAME:CIEDUR :: Centro Interdisciplinario de Estudios sobre Desarrollo
X-ORIGINAL-URL:https://ciedur.org.uy/site
X-WR-CALDESC:Eventos para CIEDUR :: Centro Interdisciplinario de Estudios sobre Desarrollo
BEGIN:VTIMEZONE
TZID:UTC
BEGIN:STANDARD
TZOFFSETFROM:+0000
TZOFFSETTO:+0000
TZNAME:UTC
DTSTART:20210101T000000
END:STANDARD
END:VTIMEZONE
BEGIN:VEVENT
DTSTART;TZID=UTC:20211201T080000
DTEND;TZID=UTC:20211201T100000
DTSTAMP:20260424T041424
CREATED:20211130T234723Z
LAST-MODIFIED:20211217T192415Z
UID:1149-1638345600-1638352800@ciedur.org.uy
SUMMARY:La perspectiva de género tras la pandemia
DESCRIPTION:Intervienen:\nVirginia Maquieira (IUEM-UAM)\nAlma Espino (Ciedur)\nPilar Montero (IUEM-UAM) \nVer evento\, aquí.
URL:https://ciedur.org.uy/site/agenda/la-perspectiva-de-genero-tras-la-pandemia/
END:VEVENT
END:VCALENDAR