BEGIN:VCALENDAR
VERSION:2.0
PRODID:-//CIEDUR :: Centro Interdisciplinario de Estudios sobre Desarrollo - ECPv5.8.1//NONSGML v1.0//EN
CALSCALE:GREGORIAN
METHOD:PUBLISH
X-WR-CALNAME:CIEDUR :: Centro Interdisciplinario de Estudios sobre Desarrollo
X-ORIGINAL-URL:https://ciedur.org.uy/site
X-WR-CALDESC:Eventos para CIEDUR :: Centro Interdisciplinario de Estudios sobre Desarrollo
BEGIN:VTIMEZONE
TZID:UTC
BEGIN:STANDARD
TZOFFSETFROM:+0000
TZOFFSETTO:+0000
TZNAME:UTC
DTSTART:20210101T000000
END:STANDARD
END:VTIMEZONE
BEGIN:VEVENT
DTSTART;TZID=UTC:20210728T180000
DTEND;TZID=UTC:20210728T210000
DTSTAMP:20260419T224147
CREATED:20210726T194618Z
LAST-MODIFIED:20210816T235024Z
UID:696-1627495200-1627506000@ciedur.org.uy
SUMMARY:LA IMPORTANCIA DE UN PLAN NACIONAL DE AGROECOLOGÍA
DESCRIPTION:En el marco del Proyecto ECCOSUR\, la Intendencia de Lavalleja y Ceuta\, organizaron la actividad «La importancia de un plan Nacional de Agroecología». \nPor información e inscripciones: ecolavalleja2020@gmail.com
URL:https://ciedur.org.uy/site/agenda/la-importancia-de-un-plan-nacional-de-agroecologia/
CATEGORIES:tribe_events
END:VEVENT
END:VCALENDAR