BEGIN:VCALENDAR
VERSION:2.0
PRODID:-//CIEDUR :: Centro Interdisciplinario de Estudios sobre Desarrollo - ECPv5.8.1//NONSGML v1.0//EN
CALSCALE:GREGORIAN
METHOD:PUBLISH
X-WR-CALNAME:CIEDUR :: Centro Interdisciplinario de Estudios sobre Desarrollo
X-ORIGINAL-URL:https://ciedur.org.uy/site
X-WR-CALDESC:Eventos para CIEDUR :: Centro Interdisciplinario de Estudios sobre Desarrollo
BEGIN:VTIMEZONE
TZID:UTC
BEGIN:STANDARD
TZOFFSETFROM:+0000
TZOFFSETTO:+0000
TZNAME:UTC
DTSTART:20210101T000000
END:STANDARD
END:VTIMEZONE
BEGIN:VEVENT
DTSTART;TZID=UTC:20210610T200000
DTEND;TZID=UTC:20210610T210000
DTSTAMP:20260423T035620
CREATED:20210609T120033Z
LAST-MODIFIED:20210817T003502Z
UID:680-1623355200-1623358800@ciedur.org.uy
SUMMARY:La economía del cuidado. Trabajo reproductivo y Derechos Humanos
DESCRIPTION:La economía del cuidado. Trabajo reproductivo y Derechos Humanos – Panel: «La economía del cuidado y la feminización de la pobreza en América Latina»\n \nDestacamos la participación de Soledad Salvador. \nVer programa\, aquí. \nInscripción previa\, aquí.
URL:https://ciedur.org.uy/site/agenda/la-economia-del-cuidado-trabajo-reproductivo-y-derechos-humanos/
CATEGORIES:tribe_events
END:VEVENT
END:VCALENDAR