BEGIN:VCALENDAR
VERSION:2.0
PRODID:-//CIEDUR :: Centro Interdisciplinario de Estudios sobre Desarrollo - ECPv5.8.1//NONSGML v1.0//EN
CALSCALE:GREGORIAN
METHOD:PUBLISH
X-WR-CALNAME:CIEDUR :: Centro Interdisciplinario de Estudios sobre Desarrollo
X-ORIGINAL-URL:https://ciedur.org.uy/site
X-WR-CALDESC:Eventos para CIEDUR :: Centro Interdisciplinario de Estudios sobre Desarrollo
BEGIN:VTIMEZONE
TZID:UTC
BEGIN:STANDARD
TZOFFSETFROM:+0000
TZOFFSETTO:+0000
TZNAME:UTC
DTSTART:20210101T000000
END:STANDARD
END:VTIMEZONE
BEGIN:VEVENT
DTSTART;TZID=UTC:20210721T140000
DTEND;TZID=UTC:20210721T170000
DTSTAMP:20260422T090902
CREATED:20210726T193518Z
LAST-MODIFIED:20210817T000340Z
UID:695-1626876000-1626886800@ciedur.org.uy
SUMMARY:Jornada de identificación de micosenderos para la interpretación ambiental
DESCRIPTION:En el marco del Proyecto ECCOSUR\, Eco Parque Costa Azul\, organizó una jornada de identificación de micosenderos para la interpretación ambiental. \nPor información e inscripciones: 098 889 490
URL:https://ciedur.org.uy/site/agenda/jornada-de-identificacion-de-micosenderos-para-la-interpretacion-ambiental/
CATEGORIES:tribe_events
END:VEVENT
END:VCALENDAR