BEGIN:VCALENDAR
VERSION:2.0
PRODID:-//CIEDUR :: Centro Interdisciplinario de Estudios sobre Desarrollo - ECPv5.8.1//NONSGML v1.0//EN
CALSCALE:GREGORIAN
METHOD:PUBLISH
X-WR-CALNAME:CIEDUR :: Centro Interdisciplinario de Estudios sobre Desarrollo
X-ORIGINAL-URL:https://ciedur.org.uy/site
X-WR-CALDESC:Eventos para CIEDUR :: Centro Interdisciplinario de Estudios sobre Desarrollo
BEGIN:VTIMEZONE
TZID:UTC
BEGIN:STANDARD
TZOFFSETFROM:+0000
TZOFFSETTO:+0000
TZNAME:UTC
DTSTART:20200101T000000
END:STANDARD
END:VTIMEZONE
BEGIN:VEVENT
DTSTART;TZID=UTC:20200703T084200
DTEND;TZID=UTC:20200703T084200
DTSTAMP:20260423T073441
CREATED:20200703T084203Z
LAST-MODIFIED:20210817T021157Z
UID:648-1593765720-1593765720@ciedur.org.uy
SUMMARY:Intercambio Público - Nuevo régimen de arrendamientos que propone la LUC
DESCRIPTION:Intercambio Público – Nuevo régimen de arrendamientos que propone la LUC \n  \nEn el marco de la Ley de Urgente Consideración (LUC) y sus propuestas sobre el régimen de alquileres con desalojos express\, les invitamos al Intercambio Público sobre los impactos indeseados en el ejercicio del Derecho a la Vivienda\, que estas propuestas pueden acarrear. \n  \nParticipan: \nDaniel Olesker\, Senador \nMariana Mota\, Directora de la INDDHH \nJuan Caretta\, Encargado Clínica de Litigio Estratégico\, Facultad de Derecho UdelaR \n  \nTrasmisión en vivo en fanpage de ANONG
URL:https://ciedur.org.uy/site/agenda/intercambio-publico-nuevo-regimen-de-arrendamientos-que-propone-la-luc/
CATEGORIES:tribe_events
END:VEVENT
END:VCALENDAR