BEGIN:VCALENDAR
VERSION:2.0
PRODID:-//CIEDUR :: Centro Interdisciplinario de Estudios sobre Desarrollo - ECPv5.8.1//NONSGML v1.0//EN
CALSCALE:GREGORIAN
METHOD:PUBLISH
X-WR-CALNAME:CIEDUR :: Centro Interdisciplinario de Estudios sobre Desarrollo
X-ORIGINAL-URL:https://ciedur.org.uy/site
X-WR-CALDESC:Eventos para CIEDUR :: Centro Interdisciplinario de Estudios sobre Desarrollo
BEGIN:VTIMEZONE
TZID:UTC
BEGIN:STANDARD
TZOFFSETFROM:+0000
TZOFFSETTO:+0000
TZNAME:UTC
DTSTART:20210101T000000
END:STANDARD
END:VTIMEZONE
BEGIN:VEVENT
DTSTART;TZID=UTC:20210420T143000
DTEND;TZID=UTC:20210420T153000
DTSTAMP:20260420T023043
CREATED:20210420T130118Z
LAST-MODIFIED:20210817T005047Z
UID:675-1618929000-1618932600@ciedur.org.uy
SUMMARY:Foro virtual “Cuidado comunitario en tiempos de crisis y sistemas nacionales integrales"
DESCRIPTION:Destacamos las participaciones de Soledad Salvador (Ciedur – Red de Género y Comercio Uruguay – Red Pro Cuidados) y de Norma Sanchís (Red de Género y Comercio de Argenitna)\, de 14.30hs a 15.30hs (Uruguay). \nInscripciones aquí \nAgenda aquí \nMás información aquí
URL:https://ciedur.org.uy/site/agenda/foro-virtual-cuidado-comunitario-en-tiempos-de-crisis-y-sistemas-nacionales-integrales/
CATEGORIES:tribe_events
END:VEVENT
END:VCALENDAR