BEGIN:VCALENDAR
VERSION:2.0
PRODID:-//CIEDUR :: Centro Interdisciplinario de Estudios sobre Desarrollo - ECPv5.8.1//NONSGML v1.0//EN
CALSCALE:GREGORIAN
METHOD:PUBLISH
X-WR-CALNAME:CIEDUR :: Centro Interdisciplinario de Estudios sobre Desarrollo
X-ORIGINAL-URL:https://ciedur.org.uy/site
X-WR-CALDESC:Eventos para CIEDUR :: Centro Interdisciplinario de Estudios sobre Desarrollo
BEGIN:VTIMEZONE
TZID:UTC
BEGIN:STANDARD
TZOFFSETFROM:+0000
TZOFFSETTO:+0000
TZNAME:UTC
DTSTART:20220101T000000
END:STANDARD
END:VTIMEZONE
BEGIN:VEVENT
DTSTART;VALUE=DATE:20221011
DTEND;VALUE=DATE:20221012
DTSTAMP:20260425T173208
CREATED:20220815T173906Z
LAST-MODIFIED:20221011T132109Z
UID:1332-1665446400-1665532799@ciedur.org.uy
SUMMARY:Foro Mujeres Emprendedoras
DESCRIPTION:Este foro está dedicado a todas las mujeres emprendedoras.\nTe ayudará a crecer y a formarte para tu negocio.\nGrandes exposiciones y expertos disertantes.\nEste foro es para vos!\n\n\n\n 
URL:https://ciedur.org.uy/site/agenda/foro-mujeres-emprendedoras/
LOCATION:Dazzler\, 21 de Setiembre 2752\, Montevideo\, Uruguay
END:VEVENT
END:VCALENDAR