BEGIN:VCALENDAR
VERSION:2.0
PRODID:-//CIEDUR :: Centro Interdisciplinario de Estudios sobre Desarrollo - ECPv5.8.1//NONSGML v1.0//EN
CALSCALE:GREGORIAN
METHOD:PUBLISH
X-WR-CALNAME:CIEDUR :: Centro Interdisciplinario de Estudios sobre Desarrollo
X-ORIGINAL-URL:https://ciedur.org.uy/site
X-WR-CALDESC:Eventos para CIEDUR :: Centro Interdisciplinario de Estudios sobre Desarrollo
BEGIN:VTIMEZONE
TZID:UTC
BEGIN:STANDARD
TZOFFSETFROM:+0000
TZOFFSETTO:+0000
TZNAME:UTC
DTSTART:20210101T000000
END:STANDARD
END:VTIMEZONE
BEGIN:VEVENT
DTSTART;VALUE=DATE:20210329
DTEND;VALUE=DATE:20210330
DTSTAMP:20260419T220653
CREATED:20210311T162003Z
LAST-MODIFIED:20210817T010009Z
UID:671-1616976000-1617062399@ciedur.org.uy
SUMMARY:Foro Generación Igualdad - Mexico 2021
DESCRIPTION:Acelerar el progreso hacia la igualdad de género de aquí a 2030\nDestacamos la participación de Alma Espino en el Foro Generación Igualdad. \n\nEl año 2020 marca un hito para acelerar la implementación de los compromisos mundiales con la igualdad de género. Este año se cumplen 25 años desde la Cuarta Conferencia Mundial sobre la Mujer y la adopción de su resolución histórica\, la Declaración y Plataforma de Acción de Beijing (Plataforma de Acción de Beijing)\, un programa visionario que define el camino para derribar las barreras sistémicas que impiden la participación de las mujeres en pie de igualdad en todos los ámbitos de la vida\, ya sean públicos o privados. \nPese a los compromisos asumidos en Beijing de adoptar medidas estratégicas y decisivas en 12 esferas de especial preocupación\, y si bien cierto progreso ha sido alcanzado en estas esferas\, hasta ahora ningún país ha logrado la igualdad de género. Por lo tanto\, la conmemoración del 25º aniversario de la Plataforma de Acción de Beijing es un punto de partida para lograr\, finalmente\, los derechos humanos de todas las mujeres y las niñas. En este sentido\, será un momento para la movilización mundial. \nEl Foro Generación Igualdad es un momento clave en esta movilización. El Foro es una reunión mundial centrada en la sociedad civil donde se congregarán una multiplicidad de participantes en pos de la igualdad de género. El evento se basa principalmente en la misma lógica que hizo posible la adopción de la Plataforma de Acción de Beijing hace veinticinco años: el poder del activismo\, de la solidaridad feminista y del liderazgo joven para lograr cambios transformadores. En este sentido\, el Foro representa un momento crucial para la participación de promotoras y promotores de la igualdad de género de todos los sectores de la sociedad —gobiernos\, la sociedad civil\, el sector privado\, emprendedoras y emprendedores\, sindicatos\, artistas\, el mundo académico y personalidades influyentes— para propiciar un diálogo mundial que inste a tomar medidas urgentes y garantizar la rendición de cuentas para lograr la igualdad de género. \nLa piedra angular sobre la que descansan todas las conmemoraciones es la novedosa campaña de promoción intergeneracional: “Generación Igualdad: Por los derechos de las mujeres y un futuro igualitario”. Esta campaña tiene el objetivo de reunir a las próximas generaciones de activistas por los derechos de las mujeres con promotoras y promotores de la igualdad de género y personas visionarias que tuvieron un papel fundamental en la creación de la Plataforma de Acción de Beijing hace más de dos décadas. En el plano colectivo\, las y los protagonistas del cambio de todas las edades y los géneros pueden abordar el objetivo pendiente del empoderamiento de las mujeres. \n\nMás información aquí. \nRegistrate aquí. \n 
URL:https://ciedur.org.uy/site/agenda/foro-generacion-igualdad-mexico-2021/
CATEGORIES:tribe_events
END:VEVENT
END:VCALENDAR