BEGIN:VCALENDAR
VERSION:2.0
PRODID:-//CIEDUR :: Centro Interdisciplinario de Estudios sobre Desarrollo - ECPv5.8.1//NONSGML v1.0//EN
CALSCALE:GREGORIAN
METHOD:PUBLISH
X-WR-CALNAME:CIEDUR :: Centro Interdisciplinario de Estudios sobre Desarrollo
X-ORIGINAL-URL:https://ciedur.org.uy/site
X-WR-CALDESC:Eventos para CIEDUR :: Centro Interdisciplinario de Estudios sobre Desarrollo
BEGIN:VTIMEZONE
TZID:UTC
BEGIN:STANDARD
TZOFFSETFROM:+0000
TZOFFSETTO:+0000
TZNAME:UTC
DTSTART:20250101T000000
END:STANDARD
END:VTIMEZONE
BEGIN:VEVENT
DTSTART;TZID=UTC:20250528T090000
DTEND;TZID=UTC:20250528T130000
DTSTAMP:20260422T201801
CREATED:20250529T155352Z
LAST-MODIFIED:20250529T155516Z
UID:2567-1748422800-1748437200@ciedur.org.uy
SUMMARY:Encuentro: protección del ambiente y derechos humanos
DESCRIPTION:Mesa 4: Derechos de acceso a la información\, a la participación y a la justicia en asuntos ambientales\n\nNatalia Castagnet: Desafíos y oportunidades en el ejercicio de derechos de acceso en asuntos ambientales\, Área de Protección del Ambiente de INDDHH\nAndrea Detjen: Acuerdo de Escazú\, ANONG\, CIEDUR\nMariana Achugar (GT de Ambiente\, Cátedra UNESCO de DDDHH\, Udelar) y Francesca Repetto (NER\, CENUR Noreste\, Udelar): Transición energética y justicia ambiental\nKarin Nansen: Derechos de acceso en asuntos ambientales y captura corporativa\, Redes Amigos de la Tierra Uruguay\nRed Unión de la Costa (a confirmar): Experiencias de participación pública en asuntos ambientales\nComentarista: Ismael Díaz\, Facultad de Ciencias de Udelar\n\nLink de inscripción\, aquí.
URL:https://ciedur.org.uy/site/agenda/encuentro-proteccion-del-ambiente-y-derechos-humanos/
LOCATION:Salón de Actos de INDDHH\, Bulevar Artigas 1532\, Montevideo\, Uruguay
END:VEVENT
END:VCALENDAR