BEGIN:VCALENDAR
VERSION:2.0
PRODID:-//CIEDUR :: Centro Interdisciplinario de Estudios sobre Desarrollo - ECPv5.8.1//NONSGML v1.0//EN
CALSCALE:GREGORIAN
METHOD:PUBLISH
X-WR-CALNAME:CIEDUR :: Centro Interdisciplinario de Estudios sobre Desarrollo
X-ORIGINAL-URL:https://ciedur.org.uy/site
X-WR-CALDESC:Eventos para CIEDUR :: Centro Interdisciplinario de Estudios sobre Desarrollo
BEGIN:VTIMEZONE
TZID:UTC
BEGIN:STANDARD
TZOFFSETFROM:+0000
TZOFFSETTO:+0000
TZNAME:UTC
DTSTART:20200101T000000
END:STANDARD
END:VTIMEZONE
BEGIN:VEVENT
DTSTART;TZID=UTC:20200923T120000
DTEND;TZID=UTC:20200923T130000
DTSTAMP:20260423T000533
CREATED:20200925T171418Z
LAST-MODIFIED:20210817T015657Z
UID:652-1600862400-1600866000@ciedur.org.uy
SUMMARY:Empoderamiento económico de las mujeres y reinserción laboral en la post-pandemia
DESCRIPTION:Empoderamiento económico de las mujeres y reinserción laboral en la post-pandemia.\n\nPanelistas:\nAlejandra Mora Mora\, Secretaria Ejecutiva de la CIM/OEA\nAlma Espino\, Investigadora de la Facultad de Ciencias Económicas y Administración\, Universidad de la República del Uruguay.\nModera:\nRicardo Ernst\, Director Ejecutivo Latin America Leadership Program\, Georgetown University \nLas mujeres parten en peores condiciones para enfrentar esta crisis\, presentan una menor participación laboral\, les afecta más el desempleo y se concentran más en sectores vulnerables y de baja productividad. Por otro lado\, la crisis exacerba la informalidad del trabajo al que han estado sometidas las mujeres históricamente\, y ha evidenciado la segregación ocupacional en razón de género\, en la cual las mujeres se concentran en sectores económicos menos especializados\, más precarios y con mayor vulnerabilidad (CIM\, 2020). Desigualdades estructurales que hoy se han profundizado frente a las medidas de cuarentena y distanciamiento social tomadas por los gobiernos para la contención del virus\, y que se profundizan con la realidad que viven las mujeres frente al trabajo de cuidado no remunerado. Conforme a diferentes estudios\, se demuestra que las mujeres asumen tres veces más que los hombres el trabajo del hogar y cuidado no remunerado\, alejándolas aún más del mercado de trabajo. \nSiendo América Latina y el Caribe la región con mayores niveles de desigualdad\, entre 2002 y 2017 se produjo un aumento del índice de feminidad de los hogares en situación de pobreza\, que alcanzó a 113 mujeres por cada 100 hombres (CEPAL\, 2019). Todo apunta a que la crisis socio-económica derivada de la actual pandemia acentuará la feminización de la pobreza en nuestro continente. El Global Gender Gap Report (2020) indica que\, al paso actual\, tomará 59 años para cerrar las brechas de género en Latinoamérica y el Caribe. \n¿Cómo asegurar la reinserción laboral de las mujeres sin retrocesos en los avances hasta hoy alcanzados? ¿Qué desafíos plantea la emergencia de los cuidados frente al empoderamiento económico de las mujeres? ¿Cómo impacta la crisis económica en la vida de las mujeres?  \nSobre estos temas buscaremos perspectivas de análisis que contribuyan a la toma de decisiones en torno a la reactivación económica de la región para asegurar que las mujeres no queden atrás. \n\n 
URL:https://ciedur.org.uy/site/agenda/empoderamiento-economico-de-las-mujeres-y-reinsercion-laboral-en-la-post-pandemia/
CATEGORIES:tribe_events
END:VEVENT
END:VCALENDAR