BEGIN:VCALENDAR
VERSION:2.0
PRODID:-//CIEDUR :: Centro Interdisciplinario de Estudios sobre Desarrollo - ECPv5.8.1//NONSGML v1.0//EN
CALSCALE:GREGORIAN
METHOD:PUBLISH
X-WR-CALNAME:CIEDUR :: Centro Interdisciplinario de Estudios sobre Desarrollo
X-ORIGINAL-URL:https://ciedur.org.uy/site
X-WR-CALDESC:Eventos para CIEDUR :: Centro Interdisciplinario de Estudios sobre Desarrollo
BEGIN:VTIMEZONE
TZID:UTC
BEGIN:STANDARD
TZOFFSETFROM:+0000
TZOFFSETTO:+0000
TZNAME:UTC
DTSTART:20210101T000000
END:STANDARD
END:VTIMEZONE
BEGIN:VEVENT
DTSTART;TZID=UTC:20210817T093000
DTEND;TZID=UTC:20210817T113000
DTSTAMP:20260420T020243
CREATED:20210820T130608Z
LAST-MODIFIED:20210908T220544Z
UID:915-1629192600-1629199800@ciedur.org.uy
SUMMARY:Diálogo sobre violencia contra las mujeres
DESCRIPTION:Destacamos la participación de Soledad Salvador. \n 
URL:https://ciedur.org.uy/site/agenda/dialogo-sobre-violencia-contra-las-muejres/
END:VEVENT
END:VCALENDAR