BEGIN:VCALENDAR
VERSION:2.0
PRODID:-//CIEDUR :: Centro Interdisciplinario de Estudios sobre Desarrollo - ECPv5.8.1//NONSGML v1.0//EN
CALSCALE:GREGORIAN
METHOD:PUBLISH
X-WR-CALNAME:CIEDUR :: Centro Interdisciplinario de Estudios sobre Desarrollo
X-ORIGINAL-URL:https://ciedur.org.uy/site
X-WR-CALDESC:Eventos para CIEDUR :: Centro Interdisciplinario de Estudios sobre Desarrollo
BEGIN:VTIMEZONE
TZID:UTC
BEGIN:STANDARD
TZOFFSETFROM:+0000
TZOFFSETTO:+0000
TZNAME:UTC
DTSTART:20250101T000000
END:STANDARD
END:VTIMEZONE
BEGIN:VEVENT
DTSTART;TZID=UTC:20250916T100000
DTEND;TZID=UTC:20250916T120000
DTSTAMP:20260422T105333
CREATED:20250915T204103Z
LAST-MODIFIED:20250915T204910Z
UID:2750-1758016800-1758024000@ciedur.org.uy
SUMMARY:Derecho a la vivienda\, hábitat y políticas públicas
DESCRIPTION:Ciclo de Jornadas sobre Derechos Humanos \nLa Institución Nacional de Derechos Humanos y Defensoría del Pueblo (INDDHH)\, con el apoyo de ANONG\, te invita a un espacio de diálogo y reflexión que aportará insumos para los informes ante el Comité DESC. \nDerecho a la vivienda\, hábitat y políticas públicasPresenta: Arq. Ivahanna Larrosa (CIEDUR) \nLink de inscripción
URL:https://ciedur.org.uy/site/agenda/derecho-a-la-vivienda-habitat-y-politicas-publicas/
LOCATION:Salón de Actos de INDDHH\, Bulevar Artigas 1532\, Montevideo\, Uruguay
END:VEVENT
END:VCALENDAR