BEGIN:VCALENDAR
VERSION:2.0
PRODID:-//CIEDUR :: Centro Interdisciplinario de Estudios sobre Desarrollo - ECPv5.8.1//NONSGML v1.0//EN
CALSCALE:GREGORIAN
METHOD:PUBLISH
X-WR-CALNAME:CIEDUR :: Centro Interdisciplinario de Estudios sobre Desarrollo
X-ORIGINAL-URL:https://ciedur.org.uy/site
X-WR-CALDESC:Eventos para CIEDUR :: Centro Interdisciplinario de Estudios sobre Desarrollo
BEGIN:VTIMEZONE
TZID:UTC
BEGIN:STANDARD
TZOFFSETFROM:+0000
TZOFFSETTO:+0000
TZNAME:UTC
DTSTART:20230101T000000
END:STANDARD
END:VTIMEZONE
BEGIN:VEVENT
DTSTART;TZID=UTC:20230615T180000
DTEND;TZID=UTC:20230615T193000
DTSTAMP:20260424T155951
CREATED:20230615T164146Z
LAST-MODIFIED:20230615T164146Z
UID:1642-1686852000-1686857400@ciedur.org.uy
SUMMARY:Debate: La fiscalidad feminista: una agenda urgente en la región
DESCRIPTION:Debate sobre cómo el Estado gasta y recauda\, las prioridades estratégicas que surgen de ello y las herramientas desde la perspectiva feminista. \nNos preguntamos:\n¿Cuál es el papel crucial de la política fiscal en la erradicación o agravamiento de las brechas de género?\n¿Cómo se entrelazan la agenda de justicia fiscal y la agenda feminista en la lucha por la equidad? \n¡Te invitamos a unirte a este apasionante debate en línea! \n¡No te quedes fuera! \nPara asistir\, regístrate aquí. \nDestacamos la participación de Alma Espino.
URL:https://ciedur.org.uy/site/agenda/debate-la-fiscalidad-feminista-una-agenda-urgente-en-la-region/
LOCATION:Centro Cultural de la Cooperacion\, Av. Corrientes 1543\, Buenos Aires\, Argentina
END:VEVENT
END:VCALENDAR