BEGIN:VCALENDAR
VERSION:2.0
PRODID:-//CIEDUR :: Centro Interdisciplinario de Estudios sobre Desarrollo - ECPv5.8.1//NONSGML v1.0//EN
CALSCALE:GREGORIAN
METHOD:PUBLISH
X-WR-CALNAME:CIEDUR :: Centro Interdisciplinario de Estudios sobre Desarrollo
X-ORIGINAL-URL:https://ciedur.org.uy/site
X-WR-CALDESC:Eventos para CIEDUR :: Centro Interdisciplinario de Estudios sobre Desarrollo
BEGIN:VTIMEZONE
TZID:UTC
BEGIN:STANDARD
TZOFFSETFROM:+0000
TZOFFSETTO:+0000
TZNAME:UTC
DTSTART:20210101T000000
END:STANDARD
END:VTIMEZONE
BEGIN:VEVENT
DTSTART;TZID=UTC:20211217T190000
DTEND;TZID=UTC:20211217T203000
DTSTAMP:20260424T091729
CREATED:20211215T205739Z
LAST-MODIFIED:20211216T165607Z
UID:1158-1639767600-1639773000@ciedur.org.uy
SUMMARY:Debate Derecho a la Vivienda
DESCRIPTION:Destacamos la participación de Ivahanna Larrosa. \nVer el evento en vivo por Microsoft TEAMS\, aquí.
URL:https://ciedur.org.uy/site/agenda/debate-derecho-a-la-vivienda/
END:VEVENT
END:VCALENDAR